BEGIN:VCALENDAR
VERSION:2.0
PRODID:Events Booking
BEGIN:VEVENT
UID:69e74e2239ce8
SUMMARY:Bäumli-Abbau-Fest
DESCRIPTION:Aufgrund des Coronavirus ist das geplante Bäumli-Abbau-Fest ab
 gesagt worden.
LOCATION:Lärchenhof 1\, 5623 Boswil
DTSTART:20200601T000000Z
DTSTAMP:20260421T121458Z
ORGANIZER:MAILTO:swisslinks@gmx.ch
GEO:47.311463;8.311934
X-APPLE-STRUCTURED-LOCATION;VALUE=URI;X-ADDRESS=Lärchenhof 1\, 5623 Boswil
 ;X-APPLE-RADIUS=72;X-TITLE=Lärchenhof\, Boswil:47.311463;8.311934
END:VEVENT
END:VCALENDAR