BEGIN:VCALENDAR
VERSION:2.0
PRODID:Events Booking
BEGIN:VEVENT
UID:69e74f6daef1a
SUMMARY:Besuch Jungtierschau in Ermensee
DESCRIPTION:Wir besuchen die Jungtierschau in Ermensee. Besammlung ist am S
 amstag\, 21. Mai 2022 um 16:00 Uhr beim Feuerwehrmagazin in Muri.
LOCATION:6294 Ermensee\, Schweiz
DTSTART:20220521T000000Z
DTEND:20220521T000000Z
DTSTAMP:20220406T184327Z
ORGANIZER:MAILTO:swisslinks@gmx.ch
GEO:47.22646;8.238728
X-APPLE-STRUCTURED-LOCATION;VALUE=URI;X-ADDRESS=6294 Ermensee\, Schweiz;X-A
 PPLE-RADIUS=72;X-TITLE=Unbekannt\, Ermensee:47.22646;8.238728
END:VEVENT
END:VCALENDAR