BEGIN:VCALENDAR
VERSION:2.0
PRODID:Events Booking
BEGIN:VEVENT
UID:69e74dd003d0e
SUMMARY:ALA Lenzburg
DESCRIPTION:Aargauische Landwirtschafts-Ausstellung.
 &nbsp\;
 Diese find
 et nur alle zehn Jahre statt.
LOCATION:5600 Lenzburg\, Schweiz
DTSTART:20230830T000000Z
DTEND:20230903T000000Z
DTSTAMP:20230324T153550Z
ORGANIZER:MAILTO:swisslinks@gmx.ch
GEO:47.390444;8.172155
X-APPLE-STRUCTURED-LOCATION;VALUE=URI;X-ADDRESS=5600 Lenzburg\, Schweiz;X-A
 PPLE-RADIUS=72;X-TITLE=Lenzburg:47.390444;8.172155
END:VEVENT
END:VCALENDAR