BEGIN:VCALENDAR
VERSION:2.0
PRODID:Events Booking
BEGIN:VEVENT
UID:69e74d807a1ad
SUMMARY:AKV-Tagung
DESCRIPTION:
LOCATION:5722 Gränichen
DTSTART:20170827T000000Z
DTSTAMP:20260421T121216Z
ORGANIZER:MAILTO:swisslinks@gmx.ch
GEO:47.348724;8.111316
X-APPLE-STRUCTURED-LOCATION;VALUE=URI;X-ADDRESS=5722 Gränichen;X-APPLE-RAD
 IUS=72;X-TITLE=Unbekannt\, Gränichen:47.348724;8.111316
END:VEVENT
END:VCALENDAR