BEGIN:VCALENDAR
VERSION:2.0
PRODID:Events Booking
BEGIN:VEVENT
UID:69e74eba95fca
SUMMARY:AKV Anlass für alle
DESCRIPTION:Einzelheiten noch nicht bekannt.
DTSTART:20230702T000000Z
DTSTAMP:20230324T154107Z
ORGANIZER:MAILTO:swisslinks@gmx.ch
END:VEVENT
END:VCALENDAR