BEGIN:VCALENDAR
VERSION:2.0
PRODID:Events Booking
BEGIN:VEVENT
UID:69e74d80efd6a
SUMMARY:Adventshock
DESCRIPTION:
DTSTART:20181123T000000Z
DTSTAMP:20260421T121216Z
ORGANIZER:MAILTO:swisslinks@gmx.ch
END:VEVENT
END:VCALENDAR