BEGIN:VCALENDAR
VERSION:2.0
PRODID:Events Booking
BEGIN:VEVENT
UID:69e74dc7177c5
SUMMARY:Klaushöck
DESCRIPTION:Wegen Coronavirus abgesagt.
LOCATION:5612 Villmergen\, Schweiz
DTSTART:20201127T190000Z
DTSTAMP:20260421T121327Z
ORGANIZER:MAILTO:swisslinks@gmx.ch
GEO:47.344661;8.236875
X-APPLE-STRUCTURED-LOCATION;VALUE=URI;X-ADDRESS=5612 Villmergen\, Schweiz;X
 -APPLE-RADIUS=72;X-TITLE=Thomas Küng\, Villmergen:47.344661;8.236875
END:VEVENT
END:VCALENDAR