BEGIN:VCALENDAR
VERSION:2.0
PRODID:Events Booking
BEGIN:VEVENT
UID:69e74d910cf81
SUMMARY:Adventshock
DESCRIPTION:
DTSTART:20191129T000000Z
DTSTAMP:20260421T121233Z
ORGANIZER:MAILTO:swisslinks@gmx.ch
END:VEVENT
END:VCALENDAR