BEGIN:VCALENDAR
VERSION:2.0
PRODID:Events Booking
BEGIN:VEVENT
UID:69e74f6cade0e
SUMMARY:Aargauische Kantonale Ausstellung
DESCRIPTION:
LOCATION:5436 Würenlos
DTSTART:20181229T000000Z
DTEND:20181230T000000Z
DTSTAMP:20260421T122028Z
ORGANIZER:MAILTO:swisslinks@gmx.ch
GEO:47.441665;8.363131
X-APPLE-STRUCTURED-LOCATION;VALUE=URI;X-ADDRESS=5436 Würenlos;X-APPLE-RADI
 US=72;X-TITLE=Unbekannt\, Würenlos:47.441665;8.363131
END:VEVENT
END:VCALENDAR