BEGIN:VCALENDAR
VERSION:2.0
PRODID:Events Booking
BEGIN:VEVENT
UID:69e74e2712958
SUMMARY:25. Schweizerische Rammlerschau
DESCRIPTION:
LOCATION:Thun\, Schweiz
DTSTART:20210205T000000Z
DTEND:20210207T000000Z
DTSTAMP:20260421T121503Z
ORGANIZER:MAILTO:swisslinks@gmx.ch
GEO:46.757987;7.627988
X-APPLE-STRUCTURED-LOCATION;VALUE=URI;X-ADDRESS=Thun\, Schweiz;X-APPLE-RADI
 US=72;X-TITLE=Expo Hallen\, Thun:46.757987;7.627988
END:VEVENT
END:VCALENDAR